BEGIN:VCALENDAR
VERSION:2.0
PRODID:-//ChamberMaster//Event Calendar 2.0//EN
METHOD:PUBLISH
X-PUBLISHED-TTL:P3D
REFRESH-INTERVAL:P3D
CALSCALE:GREGORIAN
BEGIN:VEVENT
DTSTART:20260108T230000Z
DTEND:20260109T010000Z
X-MICROSOFT-CDO-ALLDAYEVENT:FALSE
SUMMARY:Women Mean Business New Years Party
DESCRIPTION:Start 2026 off right with a fun and festive evening of connection\, laughter\, and celebration at our New Year Re-Gift Exchange! Join Women Mean Business for a relaxed ladies' night filled with goal setting\, great conversation\, delicious appetizers\, and a little holiday surprise swapping.\n\n\n\nDid you receive a gift this holiday season that wasn't quite your favorite\, but you know someone else would love? Bring it along and join in our re-gift exchange! Participation is completely optional\, so whether you bring a gift or not\, you're welcome to come mix\, mingle\, and enjoy the evening.\n\n\n\nIt's the perfect opportunity to welcome the new year and kick off 2026 with positive energy and community.\n\n\n\nLearn more about the Women Mean Business committee!
X-ALT-DESC;FMTTYPE=text/html:Start 2026 off right with a fun and festive evening of connection\, laughter\, and celebration at our New Year Re-Gift Exchange! Join Women Mean Business for a relaxed ladies&rsquo\; night filled with goal setting\, great conversation\, delicious appetizers\, and a little holiday surprise swapping.<br />\n<br />\nDid you receive a gift this holiday season that wasn&rsquo\;t quite your favorite\, but you know someone else would love? Bring it along and join in our re-gift exchange! Participation is completely optional\, so whether you bring a gift or not\, you&rsquo\;re welcome to come mix\, mingle\, and enjoy the evening.<br />\n<br />\nIt&rsquo\;s the perfect opportunity to welcome the new year and kick off 2026 with positive energy and community.<br />\n<br />\n<a href="https://www.perdidochamber.com/women-mean-business/">Learn more </a>about the Women Mean Business committee!&nbsp\;<br />\n<br />\n&nbsp\;
LOCATION:Salty Pearl Raw Bar
UID:e.2644.40160
SEQUENCE:3
DTSTAMP:20260422T174038Z
URL:https://business.visitperdido.com/events/details/women-mean-business-new-years-party-40160
END:VEVENT

END:VCALENDAR
