BEGIN:VCALENDAR
VERSION:2.0
PRODID:-//ChamberMaster//Event Calendar 2.0//EN
METHOD:PUBLISH
X-PUBLISHED-TTL:P3D
REFRESH-INTERVAL:P3D
CALSCALE:GREGORIAN
BEGIN:VEVENT
DTSTART:20260307T190000Z
DTEND:20260307T220000Z
X-MICROSOFT-CDO-ALLDAYEVENT:FALSE
SUMMARY:SPRING GARDEN FUSED GLASS CLASS
DESCRIPTION:INSTRUCTOR: JUDITH SASS\n\nLEVEL: BEGINNER\n\nMARCH 7\, 2026    1:00 P.M.-4:00 P.M.  $110/PERSON\n\nJust in time for spring\, let's make a flower garden. This project uses sheet glass\, stringers and a variety of frit. Your finished piece will be either mounted in an 8X10 shadow box frame or fired a second time over a S mold for a standalone piece.\n\nParticipants will receive an introduction to glass\, fusing\, tools and basic safety. You will select colors\, score glass\, cut glass and assemble your pieces. The class fee includes use of tools\, safety equipment and all materials. Assembled pieces will be kiln fired offsite and available for pick up the following week.\n\nClass is limited to 8 and registration is not complete until fee is paid in full.
X-ALT-DESC;FMTTYPE=text/html:<p>INSTRUCTOR: JUDITH SASS<br />\nLEVEL: BEGINNER<br />\nMARCH 7\, 2026&nbsp\; &nbsp\; 1:00 P.M.-4:00 P.M.&nbsp\; $110/PERSON<br />\nJust in time for spring\, let&rsquo\;s make a flower garden. This project uses sheet glass\, stringers and a variety of frit. Your finished piece will be either mounted in an 8X10 shadow box frame or fired a second time over a S mold for a standalone piece.</p>\n\n<p>Participants will receive an introduction to glass\, fusing\, tools and basic safety. You will select colors\, score glass\, cut glass and assemble your pieces. The class fee includes use of tools\, safety equipment and all materials. Assembled pieces will be kiln fired offsite and available for pick up the following week.</p>\n\n<p>Class is limited to 8 and registration is not complete until fee is paid in full.</p>\n
LOCATION:5660 Segura Dr.\, Pensacola\, FL 32507 Just over the Bridge behind Circle K gas station.
UID:e.2644.40161
SEQUENCE:3
DTSTAMP:20260422T123102Z
URL:https://business.visitperdido.com/events/details/spring-garden-fused-glass-class-40161
END:VEVENT

END:VCALENDAR
