BEGIN:VCALENDAR
VERSION:2.0
PRODID:-//ChamberMaster//Event Calendar 2.0//EN
METHOD:PUBLISH
X-PUBLISHED-TTL:P3D
REFRESH-INTERVAL:P3D
CALSCALE:GREGORIAN
BEGIN:VEVENT
DTSTART:20260506T163000Z
DTEND:20260506T173000Z
X-MICROSOFT-CDO-ALLDAYEVENT:FALSE
SUMMARY:Ribbon Cutting - Hub's Spirits
DESCRIPTION:Join the Perdido Key Area Chamber of Commerce for a ribbon-cutting celebration for Hub's Spirits on May 6th at 11:30 AM. This celebration will take place at Hub's Spirits:\n\n\n\n5851 Galvez Road\n\nPerdido Key\, FL
X-ALT-DESC;FMTTYPE=text/html:<span style="font-size:14px\;">Join the Perdido Key Area Chamber of Commerce for a ribbon-cutting celebration for Hub&#39\;s Spirits on May 6th at 11:30 AM. This celebration will take place at&nbsp\;Hub&#39\;s Spirits:<br />\n<br />\n5851 Galvez Road<br />\nPerdido Key\, FL&nbsp\;</span>
LOCATION:Hub's Spirits 5851 Galvez Road Perdido Key\, FL 5851 Galvez Rd\, Pensacola\, FL 32507 5851 Galvez Rd\, Pensacola\, FL 32507
UID:e.2644.42272
SEQUENCE:3
DTSTAMP:20260422T220333Z
URL:https://business.visitperdido.com/events/details/ribbon-cutting-hub-s-spirits-42272
END:VEVENT

END:VCALENDAR
