BEGIN:VCALENDAR
VERSION:2.0
PRODID:-//ChamberMaster//Event Calendar 2.0//EN
METHOD:PUBLISH
X-PUBLISHED-TTL:P3D
REFRESH-INTERVAL:P3D
CALSCALE:GREGORIAN
BEGIN:VEVENT
DTSTART:20240511T190000Z
DTEND:20240511T200000Z
X-MICROSOFT-CDO-ALLDAYEVENT:FALSE
SUMMARY:PSO in the Park
DESCRIPTION:Join the Pensacola Symphony Orchestra for a free outdoor performance at the amphitheater at Big Lagoon State Park! This one-hour event features members of the PSO brass section\, including Dale Riegle\, trumpet\; Jonathan Martin\, trumpet\; Kevin Fails\, horn\; Bret Barrow\, trombone\; and Wess Hillman\, bass trombone\; playing music from the movies\, marches from John Philip Sousa and jazz favorites from the Big Band era. Please note that for this event\, there is an optional donation to enter the park. We will be collecting donations for Gulf Coast Kids House. Their most needed items include gently used clothing and school uniforms\, new underwear for boys and girls age 4   teen and toiletries for girls and boys. This event is not sponsored or endorsed by the West Florida Public Libraries or Escambia County. Special thanks to Emily Price\, West Florida Public Libraries   Southwest Branch\, and Florida State Parks.
X-ALT-DESC;FMTTYPE=text/html:Join the Pensacola Symphony Orchestra for a free outdoor performance at the amphitheater at Big Lagoon State Park! This one-hour event features members of the PSO brass section\, including Dale Riegle\, trumpet\; Jonathan Martin\, trumpet\; Kevin Fails\, horn\; Bret Barrow\, trombone\; and Wess Hillman\, bass trombone\; playing music from the movies\, marches from John Philip Sousa and jazz favorites from the Big Band era. Please note that for this event\, there is an optional donation to enter the park. We will be collecting donations for Gulf Coast Kids House. Their most needed items include gently used clothing and school uniforms\, new underwear for boys and girls age 4 &ndash\; teen and toiletries for girls and boys. This event is not sponsored or endorsed by the West Florida Public Libraries or Escambia County. Special thanks to Emily Price\, West Florida Public Libraries &ndash\; Southwest Branch\, and Florida State Parks.
LOCATION:Big Lagoon State Park Amphitheater
UID:e.2644.35718
SEQUENCE:3
DTSTAMP:20260419T191656Z
URL:https://business.visitperdido.com/events/details/pso-in-the-park-35718
END:VEVENT

END:VCALENDAR
