BEGIN:VCALENDAR
VERSION:2.0
PRODID:-//ChamberMaster//Event Calendar 2.0//EN
METHOD:PUBLISH
X-PUBLISHED-TTL:P3D
REFRESH-INTERVAL:P3D
CALSCALE:GREGORIAN
BEGIN:VEVENT
DTSTART;VALUE=DATE:20220923
DTEND;VALUE=DATE:20220925
TRANSP:TRANSPARENT
X-MICROSOFT-CDO-ALLDAYEVENT:TRUE
SUMMARY:Jim's Firearms CUSTOMER APPRECIATION WEEKEND!
DESCRIPTION:Jim's Firearms is celebrating their amazing customers!\n\n \n\nFriday\, September 23rd & Saturday\, September 24th is the\n\nJim's Firearms CUSTOMER APPRECIATION WEEKEND!\n\n \n\nSAVINGS throughout the entire store including the New Smith & Wesson M&P Shield Plus\, the M&P-15 Rifles\, J frame revolvers\, and much more...\n\nWith so many models to choose from\, \n\nWe know you'll find something to meet your shooting needs.\n\n \n\nLots of in-store Raffles and Giveaways \n\n \n\nDon't miss out!
X-ALT-DESC;FMTTYPE=text/html:Jim&#39\;s Firearms is celebrating their amazing customers!<br />\n&nbsp\;<br />\nFriday\, September 23rd &amp\; Saturday\, September 24th is the<br />\nJim&#39\;s Firearms CUSTOMER APPRECIATION WEEKEND!<br />\n&nbsp\;<br />\nSAVINGS throughout the entire store including the New Smith &amp\; Wesson M&amp\;P Shield Plus\, the M&amp\;P-15 Rifles\, J frame revolvers\, and much more...<br />\nWith so many models to choose from\,&nbsp\;<br />\nWe know you&#39\;ll find something to meet your shooting needs.<br />\n&nbsp\;<br />\nLots of in-store Raffles and Giveaways&nbsp\;<br />\n&nbsp\;<br />\nDon&#39\;t miss out!
LOCATION:10437 Sorrento Road Pensacola\, FL 32507
UID:e.2644.33491
SEQUENCE:3
DTSTAMP:20260421T142832Z
URL:https://business.visitperdido.com/events/details/jim-s-firearms-customer-appreciation-weekend-33491
END:VEVENT

END:VCALENDAR
