BEGIN:VCALENDAR
VERSION:2.0
PRODID:-//ChamberMaster//Event Calendar 2.0//EN
METHOD:PUBLISH
X-PUBLISHED-TTL:P3D
REFRESH-INTERVAL:P3D
CALSCALE:GREGORIAN
BEGIN:VEVENT
DTSTART:20260314T120000Z
DTEND:20260314T170000Z
X-MICROSOFT-CDO-ALLDAYEVENT:FALSE
SUMMARY:Flora-Bama Beach Run For Warriors
DESCRIPTION:Flora-Bama's 13th Annual Beach Run/Walk for America's Warriors will be the best run of the year! Who wouldn't want to utilize our gorgeous white sandy beaches? The start and end point is right here at the Flora-Bama and we run entirely on the beach! All 5K runners will be headed into Alabama and all 1/2 marathon runners will be headed into Florida.\n\n100% of the registration fees will go to the Special Operations Warrior Foundation.
X-ALT-DESC;FMTTYPE=text/html:<p>Flora-Bama&#39\;s 13th Annual Beach Run/Walk for America&#39\;s Warriors will be the best run of the year! Who wouldn&#39\;t want to utilize our gorgeous white sandy beaches? The start and end point is right here at the Flora-Bama and we run entirely on the beach! All 5K runners will be headed into Alabama and all 1/2 marathon runners will be headed into Florida.</p>\n\n<p><strong>10</strong><strong>0% of the registration fees will go to the Special Operations Warrior Foundation.</strong></p>\n
LOCATION:Flora-Bama 17401 Perdido Key Dr\, Pensacola\, FL 32507
UID:e.2644.40133
SEQUENCE:3
DTSTAMP:20260422T122441Z
URL:https://business.visitperdido.com/events/details/beach-run-for-warriors-40133
END:VEVENT

END:VCALENDAR
