BEGIN:VCALENDAR
VERSION:2.0
PRODID:-//ChamberMaster//Event Calendar 2.0//EN
METHOD:PUBLISH
X-PUBLISHED-TTL:P3D
REFRESH-INTERVAL:P3D
CALSCALE:GREGORIAN
BEGIN:VEVENT
DTSTART:20260124T160000Z
DTEND:20260125T020000Z
X-MICROSOFT-CDO-ALLDAYEVENT:FALSE
SUMMARY:Arts & Crafts Festival
DESCRIPTION:Join us for OWA's 6th Annual Arts & Crafts Festival on January 23rd\, 24th\, and 25th in Downtown OWA! This family-friendly festival features a variety of local artists\, vendors\, and small businesses showcasing their handmade goods. Take your time browsing the unique booths\, enjoy live music\, and find something special to take home. Bring the whole family and join us in supporting the talent and creativity of the community!\n\nThe Arts & Crafts Festival is free to enjoy.
X-ALT-DESC;FMTTYPE=text/html:<p>&nbsp\;Join us for OWA&rsquo\;s 6th Annual Arts &amp\; Crafts Festival on January 23rd\, 24th\, and 25th in Downtown OWA! This family-friendly festival features a variety of local artists\, vendors\, and small businesses showcasing their handmade goods. Take your time browsing the unique booths\, enjoy live music\, and find something special to take home. Bring the whole family and join us in supporting the talent and creativity of the community!</p>\n\n<p>The Arts &amp\; Crafts Festival is free to enjoy.</p>\n
LOCATION:Location: Downtown OWA
UID:e.2644.40173
SEQUENCE:3
DTSTAMP:20260422T173942Z
URL:https://business.visitperdido.com/events/details/arts-crafts-festival-01-24-2026-40173
END:VEVENT

END:VCALENDAR
