BEGIN:VCALENDAR
VERSION:2.0
PRODID:-//ChamberMaster//Event Calendar 2.0//EN
METHOD:PUBLISH
X-PUBLISHED-TTL:P3D
REFRESH-INTERVAL:P3D
CALSCALE:GREGORIAN
BEGIN:VEVENT
DTSTART:20240502T220000Z
DTEND:20240503T010000Z
X-MICROSOFT-CDO-ALLDAYEVENT:FALSE
SUMMARY:2024 MAY Lost Key Lighted Night Market May
DESCRIPTION:Lost Key Lighted Night Market\n\n\n\nThe Perdido Key Area Chamber\, in partnership with Luxury Coastal Vacations\, is hosting another Lighted Night Market on the Lost Key on May 2nd\, 2024 at Villagio in Perdido Key!\n\n\n\nImagine taking an evening stroll through a market where each vendor has decorated their tent with unique lights and has opportunities for attendees to purchase unique Arts and Crafts\, Artisan goods and handmade jewelry\, sample local flavors and maybe even catch a performance from a local entertainer or share in an experience that only Perdido Key can offer. \n\n\n\nStarting at 5:00 PM until 8:00 PM Guests are invited to wander through and explore locally sourced crafts and enjoy entertainment!  \n\n\n\nThis event is FREE to the general public to attend!\n\n\n\nALL VENDOR SPOTS ARE FULL!\n\n\n\nENTERTAINMENT\n\nSCOTT KOEHN - Scott Koehn\, Atlanta native and part of the Frank Brown Songwriters Festival\, will perform at the event. Koehn has been traveling the music road since the age of 16. He's an accomplished guitarist\, bassist and singer/songwriter\, and has brought his music to the Gulf Coast playing different styles to entertain all audiences.
X-ALT-DESC;FMTTYPE=text/html:<p><span style="font-size:16px\;"><span style="font-family:arial\;"><strong><span style="color:#333333\;">Lost Key Lighted Night Market</span></strong></span></span><br />\n<br />\n<span style="font-size:16px\;"><span style="font-family:arial\;">The Perdido Key Area Chamber\, in partnership with Luxury Coastal Vacations\, is hosting another&nbsp\;Lighted Night Market on&nbsp\;the Lost Key on May 2nd\, 2024 at Villagio in Perdido Key!<br />\n<br />\nImagine taking an evening stroll through a market where each vendor has decorated their tent with unique lights and has opportunities for attendees&nbsp\;to purchase unique Arts and Crafts\, Artisan goods and handmade jewelry\, sample local flavors and maybe even catch a performance from a local entertainer or share in an experience that only Perdido Key can offer.&nbsp\;<br />\n<br />\n<span style="color:#333333\;"><strong>Starting at 5:00 PM&nbsp\;until 8:00 PM</strong>&nbsp\;Guests are invited to wander through and explore locally sourced crafts and enjoy entertainment!&nbsp\;&nbsp\;</span><br />\n<br />\nThis event is FREE to the general public to attend!<br />\n<br />\nALL VENDOR SPOTS ARE FULL!<br />\n<br />\n<u><strong>ENTERTAINMENT</strong></u></span></span><br />\n<span style="font-size:11.5pt">SCOTT KOEHN - Scott Koehn\, Atlanta native and part of the Frank Brown Songwriters Festival\, will perform at the event. Koehn has been traveling the music road since the age of 16. He&#39\;s an accomplished guitarist\, bassist and singer/songwriter\, and has brought his music to the Gulf Coast playing different styles to entertain all audiences. <o:p></o:p></span></p>\n
LOCATION:The Event is located at Villagio\, 13700 Perdido Key Drive\, Pensacola\, FL
UID:e.2644.35697
SEQUENCE:3
DTSTAMP:20260419T191851Z
URL:https://business.visitperdido.com/events/details/2024-may-lost-key-lighted-night-market-may-35697
END:VEVENT

END:VCALENDAR
