BEGIN:VCALENDAR
VERSION:2.0
PRODID:-//ChamberMaster//Event Calendar 2.0//EN
METHOD:PUBLISH
X-PUBLISHED-TTL:P3D
REFRESH-INTERVAL:P3D
CALSCALE:GREGORIAN
BEGIN:VEVENT
DTSTART:20230216T170000Z
DTEND:20230216T190000Z
X-MICROSOFT-CDO-ALLDAYEVENT:FALSE
SUMMARY:2023 Original Snowbird Hootenanny
DESCRIPTION:On February 16\, 2023\, Snowbirds are invited to the Flora-Bama Lounge\, Package & Oyster Bar for a hoe-down with a Mardi Gras flair!. \n\n\n\nThere will be plenty of vendors giving away free goodies\, along with live music\, games\, and door prize drawings. Lunch will be provided by the famous chefs of the Flora-Bama and includes one free beverage.\n\n\n\nTickets are limited!\n\n\n\nYou can register online here or in person at the Chamber Mon - Fri 9am - 4pm\n\n\n\nPerdido Key Area Chamber of Commerce\n\n15500 Perdido Key Dr. Pensacola\, FL 32507
X-ALT-DESC;FMTTYPE=text/html:On February 16\, 2023\, Snowbirds are invited to the Flora-Bama Lounge\, Package &amp\; Oyster&nbsp\;Bar for a hoe-down with a Mardi Gras flair!.&nbsp\;<br />\n<br />\nThere will be plenty of vendors giving away free goodies\, along with live music\, games\, and door prize drawings. Lunch will be provided by the famous chefs of the Flora-Bama and includes one free beverage.<br />\n<br />\n<span style="font-size:20px\;"><strong>Tickets are limited!</strong></span><br />\n<br />\nYou can register online here or in person at the Chamber Mon - Fri 9am - 4pm<br />\n<br />\n<strong>Perdido Key Area Chamber of Commerce</strong><br />\n15500 Perdido Key Dr. Pensacola\, FL 32507<br />\n<br />\n<br />\n<br />\n&nbsp\;
LOCATION:On the Florida-Alabama Line- at the World-Famous Flora-Bama The Flora-Bama Lounge Package & Oyster Bar 17401 Perdido Key Dr.\, Pensacola\, FL 32507
UID:e.2644.33428
SEQUENCE:3
DTSTAMP:20260421T142846Z
URL:https://business.visitperdido.com/events/details/2023-original-snowbird-hootenanny-33428
END:VEVENT

END:VCALENDAR
